BEGIN:VCALENDAR
VERSION:2.0
PRODID:-//Mind Forward - ECPv6.15.20//NONSGML v1.0//EN
CALSCALE:GREGORIAN
METHOD:PUBLISH
X-WR-CALNAME:Mind Forward
X-ORIGINAL-URL:https://mindforward.org
X-WR-CALDESC:Events for Mind Forward
REFRESH-INTERVAL;VALUE=DURATION:PT1H
X-Robots-Tag:noindex
X-PUBLISHED-TTL:PT1H
BEGIN:VTIMEZONE
TZID:America/Toronto
BEGIN:DAYLIGHT
TZOFFSETFROM:-0500
TZOFFSETTO:-0400
TZNAME:EDT
DTSTART:20240310T070000
END:DAYLIGHT
BEGIN:STANDARD
TZOFFSETFROM:-0400
TZOFFSETTO:-0500
TZNAME:EST
DTSTART:20241103T060000
END:STANDARD
BEGIN:DAYLIGHT
TZOFFSETFROM:-0500
TZOFFSETTO:-0400
TZNAME:EDT
DTSTART:20250309T070000
END:DAYLIGHT
BEGIN:STANDARD
TZOFFSETFROM:-0400
TZOFFSETTO:-0500
TZNAME:EST
DTSTART:20251102T060000
END:STANDARD
BEGIN:DAYLIGHT
TZOFFSETFROM:-0500
TZOFFSETTO:-0400
TZNAME:EDT
DTSTART:20260308T070000
END:DAYLIGHT
BEGIN:STANDARD
TZOFFSETFROM:-0400
TZOFFSETTO:-0500
TZNAME:EST
DTSTART:20261101T060000
END:STANDARD
END:VTIMEZONE
BEGIN:VEVENT
DTSTART;TZID=America/Toronto:20250815T110000
DTEND;TZID=America/Toronto:20250815T140000
DTSTAMP:20260421T115932
CREATED:20250512T194649Z
LAST-MODIFIED:20250512T203404Z
UID:10001848-1755255600-1755266400@mindforward.org
SUMMARY:Annual Agency Picnic (Mississauga)
DESCRIPTION:One of our biggest events of the year is happening again at Lakefront Promenade in Mississauga. With a stunning backdrop of Lake Ontario\, we’ll eat\, socialize\, and play games all afternoon. Don’t miss this chance to make summer memories with our amazing community!
URL:https://mindforward.org/event/annual-agency-picnic-mississauga/
LOCATION:Lakefront Promenade Park\, 800 Lakefront Promenade\, Mississauga\, Ontario\, Canada
ATTACH;FMTTYPE=image/jpeg:https://mindforward.org/wp-content/uploads/2025/05/Annual-Agency-Picnic.jpg
END:VEVENT
END:VCALENDAR