BEGIN:VCALENDAR
VERSION:2.0
PRODID:-//Mind Forward - ECPv6.15.20//NONSGML v1.0//EN
CALSCALE:GREGORIAN
METHOD:PUBLISH
X-WR-CALNAME:Mind Forward
X-ORIGINAL-URL:https://mindforward.org
X-WR-CALDESC:Events for Mind Forward
REFRESH-INTERVAL;VALUE=DURATION:PT1H
X-Robots-Tag:noindex
X-PUBLISHED-TTL:PT1H
BEGIN:VTIMEZONE
TZID:America/Toronto
BEGIN:DAYLIGHT
TZOFFSETFROM:-0500
TZOFFSETTO:-0400
TZNAME:EDT
DTSTART:20240310T070000
END:DAYLIGHT
BEGIN:STANDARD
TZOFFSETFROM:-0400
TZOFFSETTO:-0500
TZNAME:EST
DTSTART:20241103T060000
END:STANDARD
BEGIN:DAYLIGHT
TZOFFSETFROM:-0500
TZOFFSETTO:-0400
TZNAME:EDT
DTSTART:20250309T070000
END:DAYLIGHT
BEGIN:STANDARD
TZOFFSETFROM:-0400
TZOFFSETTO:-0500
TZNAME:EST
DTSTART:20251102T060000
END:STANDARD
BEGIN:DAYLIGHT
TZOFFSETFROM:-0500
TZOFFSETTO:-0400
TZNAME:EDT
DTSTART:20260308T070000
END:DAYLIGHT
BEGIN:STANDARD
TZOFFSETFROM:-0400
TZOFFSETTO:-0500
TZNAME:EST
DTSTART:20261101T060000
END:STANDARD
END:VTIMEZONE
BEGIN:VEVENT
DTSTART;TZID=America/Toronto:20250425T190000
DTEND;TZID=America/Toronto:20250425T220000
DTSTAMP:20260424T235514
CREATED:20250414T180301Z
LAST-MODIFIED:20250414T180647Z
UID:10001843-1745607600-1745618400@mindforward.org
SUMMARY:Bella Notte
DESCRIPTION:Join us for Bella Notte – Mind Forward’s inaugural fundraiser in support of brain injury services. Enjoy great food\, entertainment\, and a silent auction\, all for a great cause. \nMore info: CLICK HERE
URL:https://mindforward.org/event/bella-notte/
LOCATION:Speducci Mercatto\, 46 Milford Ave\, North York\, Ontario\, Canada
ATTACH;FMTTYPE=image/jpeg:https://mindforward.org/wp-content/uploads/2025/04/Bella-Notte-Fundraiser-EVENT.jpg
END:VEVENT
BEGIN:VEVENT
DTSTART;TZID=America/Toronto:20250415T190000
DTEND;TZID=America/Toronto:20250415T203000
DTSTAMP:20260424T235514
CREATED:20250328T172610Z
LAST-MODIFIED:20250328T175507Z
UID:10001842-1744743600-1744749000@mindforward.org
SUMMARY:Rebuilding Cognitive Function
DESCRIPTION:Are you ready to turn cognitive challenges into stepping stones for independence?\nIf so\, you don’t want to miss our next workshop on April 15th! \nContact Dorothy.Heidbuurt@mindforward.org to register or join us virtually at https://us06web.zoom.us/j/81276311226
URL:https://mindforward.org/event/rebuilding-cognitive-function/
LOCATION:MindForward headoffice\, 176 Robert Speck Pkwy\, Mississauga\, ON\, L4Z 3G1
ATTACH;FMTTYPE=image/jpeg:https://mindforward.org/wp-content/uploads/2025/03/Rebuilding-Cognitive-Function.jpg
END:VEVENT
BEGIN:VEVENT
DTSTART;TZID=America/Toronto:20250218T190000
DTEND;TZID=America/Toronto:20250218T200000
DTSTAMP:20260424T235514
CREATED:20250120T123750Z
LAST-MODIFIED:20250214T202521Z
UID:10001838-1739905200-1739908800@mindforward.org
SUMMARY:Disability Estate Planning Workshop
DESCRIPTION:with Kenneth C. Pope\, LL.B TEP \nClick to open Disability Estate Planning Workshop pdf
URL:https://mindforward.org/event/workshop-financial-foundations/
LOCATION:ON
ATTACH;FMTTYPE=image/jpeg:https://mindforward.org/wp-content/uploads/2025/01/DISABILITY-ESTATE-PLANNING-WORKSHOP.jpg
END:VEVENT
BEGIN:VEVENT
DTSTART;TZID=America/Toronto:20250205T083000
DTEND;TZID=America/Toronto:20250205T120000
DTSTAMP:20260424T235514
CREATED:20250120T123559Z
LAST-MODIFIED:20250127T150515Z
UID:10001836-1738744200-1738756800@mindforward.org
SUMMARY:Mississauga Health Community Connect Workshop
DESCRIPTION:at Unitarian Congregation \n  \nMore info: https://mindforward.org/join-mississauga-healths-community-connect-workshop/
URL:https://mindforward.org/event/mississauga-health-community-connect-workshop/
LOCATION:ON
ATTACH;FMTTYPE=image/jpeg:https://mindforward.org/wp-content/uploads/2025/01/Community-Connect-Event.jpg
END:VEVENT
BEGIN:VEVENT
DTSTART;TZID=America/Toronto:20250121T190000
DTEND;TZID=America/Toronto:20250121T200000
DTSTAMP:20260424T235514
CREATED:20250120T123352Z
LAST-MODIFIED:20250120T123849Z
UID:10001834-1737486000-1737489600@mindforward.org
SUMMARY:Workshop: “Fuel Your Mind: Healthy Eating for a Sharper\, Stronger You”
DESCRIPTION:with Registered Dietician\, Anisha Gupta
URL:https://mindforward.org/event/fuel-your-mind-healthy-eating-for-a-sharper-stronger-you/
LOCATION:ON
ATTACH;FMTTYPE=image/jpeg:https://mindforward.org/wp-content/uploads/2024/10/Union-22-new.jpg
END:VEVENT
END:VCALENDAR