BEGIN:VCALENDAR
VERSION:2.0
PRODID:-//Mind Forward - ECPv6.15.20//NONSGML v1.0//EN
CALSCALE:GREGORIAN
METHOD:PUBLISH
X-WR-CALNAME:Mind Forward
X-ORIGINAL-URL:https://mindforward.org
X-WR-CALDESC:Events for Mind Forward
REFRESH-INTERVAL;VALUE=DURATION:PT1H
X-Robots-Tag:noindex
X-PUBLISHED-TTL:PT1H
BEGIN:VTIMEZONE
TZID:America/Toronto
BEGIN:DAYLIGHT
TZOFFSETFROM:-0500
TZOFFSETTO:-0400
TZNAME:EDT
DTSTART:20250309T070000
END:DAYLIGHT
BEGIN:STANDARD
TZOFFSETFROM:-0400
TZOFFSETTO:-0500
TZNAME:EST
DTSTART:20251102T060000
END:STANDARD
BEGIN:DAYLIGHT
TZOFFSETFROM:-0500
TZOFFSETTO:-0400
TZNAME:EDT
DTSTART:20260308T070000
END:DAYLIGHT
BEGIN:STANDARD
TZOFFSETFROM:-0400
TZOFFSETTO:-0500
TZNAME:EST
DTSTART:20261101T060000
END:STANDARD
BEGIN:DAYLIGHT
TZOFFSETFROM:-0500
TZOFFSETTO:-0400
TZNAME:EDT
DTSTART:20270314T070000
END:DAYLIGHT
BEGIN:STANDARD
TZOFFSETFROM:-0400
TZOFFSETTO:-0500
TZNAME:EST
DTSTART:20271107T060000
END:STANDARD
END:VTIMEZONE
BEGIN:VEVENT
DTSTART;TZID=America/Toronto:20260609T190000
DTEND;TZID=America/Toronto:20260609T203000
DTSTAMP:20260424T101414
CREATED:20260409T162531Z
LAST-MODIFIED:20260410T131737Z
UID:10002242-1781031600-1781037000@mindforward.org
SUMMARY:Journeys of Hope & Resilience
DESCRIPTION:Join us on for a special workshop in recognition of Brain Injury Awareness Month. Be inspired by real-life stories from brain injury survivors and caregivers\, who will share their personal and honest insights into the resilience\, strength\, and perseverance it takes to navigate life after brain injury and other life-changing circumstances. \nContact Dorothy.Heidbuurt@mindforward.org or Natahsa.Dsouza@mindforward.org to register.
URL:https://mindforward.org/event/journeys-of-hope-resilience/
LOCATION:MindForward headoffice\, 176 Robert Speck Pkwy\, Mississauga\, ON\, L4Z 3G1
ATTACH;FMTTYPE=image/jpeg:https://mindforward.org/wp-content/uploads/2026/04/Journeys-of-Hope-and-Resilience.jpg
END:VEVENT
END:VCALENDAR