BEGIN:VCALENDAR
VERSION:2.0
PRODID:-//Mind Forward - ECPv6.15.20//NONSGML v1.0//EN
CALSCALE:GREGORIAN
METHOD:PUBLISH
X-WR-CALNAME:Mind Forward
X-ORIGINAL-URL:https://mindforward.org
X-WR-CALDESC:Events for Mind Forward
REFRESH-INTERVAL;VALUE=DURATION:PT1H
X-Robots-Tag:noindex
X-PUBLISHED-TTL:PT1H
BEGIN:VTIMEZONE
TZID:America/Toronto
BEGIN:DAYLIGHT
TZOFFSETFROM:-0500
TZOFFSETTO:-0400
TZNAME:EDT
DTSTART:20250309T070000
END:DAYLIGHT
BEGIN:STANDARD
TZOFFSETFROM:-0400
TZOFFSETTO:-0500
TZNAME:EST
DTSTART:20251102T060000
END:STANDARD
BEGIN:DAYLIGHT
TZOFFSETFROM:-0500
TZOFFSETTO:-0400
TZNAME:EDT
DTSTART:20260308T070000
END:DAYLIGHT
BEGIN:STANDARD
TZOFFSETFROM:-0400
TZOFFSETTO:-0500
TZNAME:EST
DTSTART:20261101T060000
END:STANDARD
BEGIN:DAYLIGHT
TZOFFSETFROM:-0500
TZOFFSETTO:-0400
TZNAME:EDT
DTSTART:20270314T070000
END:DAYLIGHT
BEGIN:STANDARD
TZOFFSETFROM:-0400
TZOFFSETTO:-0500
TZNAME:EST
DTSTART:20271107T060000
END:STANDARD
END:VTIMEZONE
BEGIN:VEVENT
DTSTART;TZID=America/Toronto:20260920T090000
DTEND;TZID=America/Toronto:20260920T120000
DTSTAMP:20260424T102738
CREATED:20260413T124512Z
LAST-MODIFIED:20260413T124512Z
UID:10002243-1789894800-1789905600@mindforward.org
SUMMARY:Walk-a-Thon
DESCRIPTION:Together\, we can move minds forward!\nLace up your runners and join us on Sunday\, September 20th for Minds in Motion\, a fun community walk in support of individuals and families affected by acquired brain injury.
URL:https://mindforward.org/event/walk-a-thon/
LOCATION:MindForward headoffice\, 176 Robert Speck Pkwy\, Mississauga\, ON\, L4Z 3G1
ATTACH;FMTTYPE=image/jpeg:https://mindforward.org/wp-content/uploads/2026/04/Walk-a-Thon.jpg
END:VEVENT
END:VCALENDAR