BEGIN:VCALENDAR
VERSION:2.0
PRODID:-//Mind Forward - ECPv6.15.20//NONSGML v1.0//EN
CALSCALE:GREGORIAN
METHOD:PUBLISH
X-ORIGINAL-URL:https://mindforward.org
X-WR-CALDESC:Events for Mind Forward
REFRESH-INTERVAL;VALUE=DURATION:PT1H
X-Robots-Tag:noindex
X-PUBLISHED-TTL:PT1H
BEGIN:VTIMEZONE
TZID:America/Toronto
BEGIN:DAYLIGHT
TZOFFSETFROM:-0500
TZOFFSETTO:-0400
TZNAME:EDT
DTSTART:20240310T070000
END:DAYLIGHT
BEGIN:STANDARD
TZOFFSETFROM:-0400
TZOFFSETTO:-0500
TZNAME:EST
DTSTART:20241103T060000
END:STANDARD
BEGIN:DAYLIGHT
TZOFFSETFROM:-0500
TZOFFSETTO:-0400
TZNAME:EDT
DTSTART:20250309T070000
END:DAYLIGHT
BEGIN:STANDARD
TZOFFSETFROM:-0400
TZOFFSETTO:-0500
TZNAME:EST
DTSTART:20251102T060000
END:STANDARD
BEGIN:DAYLIGHT
TZOFFSETFROM:-0500
TZOFFSETTO:-0400
TZNAME:EDT
DTSTART:20260308T070000
END:DAYLIGHT
BEGIN:STANDARD
TZOFFSETFROM:-0400
TZOFFSETTO:-0500
TZNAME:EST
DTSTART:20261101T060000
END:STANDARD
END:VTIMEZONE
BEGIN:VEVENT
DTSTART;VALUE=DATE:20250508
DTEND;VALUE=DATE:20250510
DTSTAMP:20260424T202951
CREATED:20250506T163913Z
LAST-MODIFIED:20250506T163913Z
UID:10001847-1746662400-1746835199@mindforward.org
SUMMARY:28th Annual HHS Conference
DESCRIPTION:Mind Forward is proud to be part of the 28th Annual HHS Conference on Neurobehavioural Rehabilitation in Acquired Brain Injury\, taking place May 8–9\, 2025 in Hamilton. This year’s theme—Adapting to Change—reflects the innovative and collaborative spirit of our ABI community. \nMore info: https://hhsf.akaraisin.com/ui/ABIConference2025
URL:https://mindforward.org/event/28th-annual-hhs-conference/
LOCATION:Hamilton Convention Centre\, 1 Summers Lane\, Hamilton\, Ontario\, L8P 4Y2\, Canada
ATTACH;FMTTYPE=image/jpeg:https://mindforward.org/wp-content/uploads/2025/05/28th-Annual-HHS-Conference.jpg
END:VEVENT
BEGIN:VEVENT
DTSTART;TZID=America/Toronto:20250516T110000
DTEND;TZID=America/Toronto:20250516T140000
DTSTAMP:20260424T202951
CREATED:20250414T184214Z
LAST-MODIFIED:20250423T191124Z
UID:10001844-1747393200-1747404000@mindforward.org
SUMMARY:Spring Fling 2025
DESCRIPTION:Join us for a fun-filled afternoon at Mind Forward’s annual Spring Fling on Friday\, May 16th\, 2025 from 11:00am to 2:00pm at our Head Office (176 Robert Speck Parkway). \nEnjoy a BBQ lunch\, live music\, games\, and great company – all for just $10 per person (clients\, guests\, and staff). \nRain date: Thursday\, May 22nd\, 2025.
URL:https://mindforward.org/event/spring-fling-2025/
LOCATION:MindForward headoffice\, 176 Robert Speck Pkwy\, Mississauga\, ON\, L4Z 3G1
ATTACH;FMTTYPE=image/jpeg:https://mindforward.org/wp-content/uploads/2025/04/spring-fling-2025-1.jpg
END:VEVENT
BEGIN:VEVENT
DTSTART;TZID=America/Toronto:20250520T190000
DTEND;TZID=America/Toronto:20250520T203000
DTSTAMP:20260424T202951
CREATED:20250506T162440Z
LAST-MODIFIED:20250506T162440Z
UID:10001846-1747767600-1747773000@mindforward.org
SUMMARY:Practical Self-Care Tips Workshop
DESCRIPTION:Self-care is essential for everyone\, no matter what stage of life they are in. Whether you are a caregiver\, staff member\, client\, or fulfilling any other role\, it’s important to prioritize your personal health. In this workshop\, we will explore various strategies to help you strengthen your physical\, mental\, and emotional well-being by prioritizing self-care practices in your everyday life. Let’s reduce the risk of burnout and help you increase your full potential.
URL:https://mindforward.org/event/practical-self-care-tips-workshop/
LOCATION:MindForward headoffice\, 176 Robert Speck Pkwy\, Mississauga\, ON\, L4Z 3G1
ATTACH;FMTTYPE=image/jpeg:https://mindforward.org/wp-content/uploads/2025/05/Practical-Self-Care-Tips-Workshop.jpg
END:VEVENT
END:VCALENDAR