BEGIN:VCALENDAR
VERSION:2.0
PRODID:-//Mind Forward - ECPv6.15.20//NONSGML v1.0//EN
CALSCALE:GREGORIAN
METHOD:PUBLISH
X-ORIGINAL-URL:https://mindforward.org
X-WR-CALDESC:Events for Mind Forward
REFRESH-INTERVAL;VALUE=DURATION:PT1H
X-Robots-Tag:noindex
X-PUBLISHED-TTL:PT1H
BEGIN:VTIMEZONE
TZID:America/Toronto
BEGIN:DAYLIGHT
TZOFFSETFROM:-0500
TZOFFSETTO:-0400
TZNAME:EDT
DTSTART:20240310T070000
END:DAYLIGHT
BEGIN:STANDARD
TZOFFSETFROM:-0400
TZOFFSETTO:-0500
TZNAME:EST
DTSTART:20241103T060000
END:STANDARD
BEGIN:DAYLIGHT
TZOFFSETFROM:-0500
TZOFFSETTO:-0400
TZNAME:EDT
DTSTART:20250309T070000
END:DAYLIGHT
BEGIN:STANDARD
TZOFFSETFROM:-0400
TZOFFSETTO:-0500
TZNAME:EST
DTSTART:20251102T060000
END:STANDARD
BEGIN:DAYLIGHT
TZOFFSETFROM:-0500
TZOFFSETTO:-0400
TZNAME:EDT
DTSTART:20260308T070000
END:DAYLIGHT
BEGIN:STANDARD
TZOFFSETFROM:-0400
TZOFFSETTO:-0500
TZNAME:EST
DTSTART:20261101T060000
END:STANDARD
END:VTIMEZONE
BEGIN:VEVENT
DTSTART;TZID=America/Toronto:20250604T170000
DTEND;TZID=America/Toronto:20250604T193000
DTSTAMP:20260424T213740
CREATED:20250421T154856Z
LAST-MODIFIED:20250527T132536Z
UID:10001845-1749056400-1749065400@mindforward.org
SUMMARY:Lighting of the Clock Tower – Brain Injury Awareness Month
DESCRIPTION:Join us at Celebration Square to watch City Hall’s Clock Tower light up in green to mark the official launch of Brain Injury Awareness Month. Let’s shines a light on the strength and resilience of the brain injury community. \nWe invite everyone to come out and show their support by wearing a touch of green! \nCelebration Square/Mississauga City Hall Clock Tower\n📅 Wednesday\, June 4th\, 2025 | 5:00 – 7:30 pm
URL:https://mindforward.org/event/clock-tower-lighting-brain-injury-awareness-month/
LOCATION:Mississauga Civic Centre\, 300 City Centre Dr\, Mississauga\, Ontario\, L5B 2G6
ATTACH;FMTTYPE=image/jpeg:https://mindforward.org/wp-content/uploads/2025/04/Lighting-of-the-Clock-Tower-Website.jpg
END:VEVENT
BEGIN:VEVENT
DTSTART;TZID=America/Toronto:20250610T190000
DTEND;TZID=America/Toronto:20250610T203000
DTSTAMP:20260424T213740
CREATED:20250609T130359Z
LAST-MODIFIED:20250609T130359Z
UID:10001853-1749582000-1749587400@mindforward.org
SUMMARY:Journeys of Hope
DESCRIPTION:Personal stories from Brain Injury Survivors
URL:https://mindforward.org/event/journeys-of-hope/
LOCATION:MindForward headoffice\, 176 Robert Speck Pkwy\, Mississauga\, ON\, L4Z 3G1
ATTACH;FMTTYPE=image/jpeg:https://mindforward.org/wp-content/uploads/2025/06/Journeys-of-Hope.jpg
END:VEVENT
BEGIN:VEVENT
DTSTART;TZID=America/Toronto:20250612T110000
DTEND;TZID=America/Toronto:20250612T120000
DTSTAMP:20260424T213740
CREATED:20250512T202714Z
LAST-MODIFIED:20250512T202714Z
UID:10001852-1749726000-1749729600@mindforward.org
SUMMARY:Ukulele Group Performance
DESCRIPTION:You won’t want to miss this special performance by our local ukulele group. Many of our performers have personal stories of resilience and recovery\, and through the simple yet soulful sounds of the ukulele\, they will show us how music can be a powerful tool for healing and growth. Come tap your feet\, sing along\, and celebrate ABI Awareness Month!
URL:https://mindforward.org/event/ukulele-group-performance/
LOCATION:MindForward headoffice\, 176 Robert Speck Pkwy\, Mississauga\, ON\, L4Z 3G1
ATTACH;FMTTYPE=image/jpeg:https://mindforward.org/wp-content/uploads/2025/05/Ukulele-Group-Performance.jpg
END:VEVENT
BEGIN:VEVENT
DTSTART;TZID=America/Toronto:20250619T110000
DTEND;TZID=America/Toronto:20250619T140000
DTSTAMP:20260424T213740
CREATED:20250512T200522Z
LAST-MODIFIED:20250512T203550Z
UID:10001851-1750330800-1750341600@mindforward.org
SUMMARY:Brush Strokes in the Park
DESCRIPTION:Stroll through a vibrant landscape filled with bold colors\, expressive textures\, and heartfelt narratives at this outdoor art exhibition at our head office in Mississauga. This showcase will feature the extraordinary creations of our clients—individuals whose talent\, commitment\, and creativity are evident in every brushstroke.
URL:https://mindforward.org/event/brush-strokes-in-the-park/
LOCATION:MindForward headoffice\, 176 Robert Speck Pkwy\, Mississauga\, ON\, L4Z 3G1
ATTACH;FMTTYPE=image/jpeg:https://mindforward.org/wp-content/uploads/2025/05/Brush-Strokes-in-the-Park.jpg
END:VEVENT
BEGIN:VEVENT
DTSTART;TZID=America/Toronto:20250625T113000
DTEND;TZID=America/Toronto:20250625T140000
DTSTAMP:20260424T213740
CREATED:20250512T195932Z
LAST-MODIFIED:20250512T203517Z
UID:10001850-1750851000-1750860000@mindforward.org
SUMMARY:Central West Picnic
DESCRIPTION:Come and celebrate with us at our annual Central West BBQ at Heart Lake in Brampton. Enjoy good food\, music\, games\, and company. Picnic area is sheltered.
URL:https://mindforward.org/event/central-west-picnic/
LOCATION:Heart Lake\, 10818 Heart Lake Rd\, Brampton\, Ontario\, L6Z 0B3\, Canada
ATTACH;FMTTYPE=image/jpeg:https://mindforward.org/wp-content/uploads/2025/05/Central-West-Picnic.jpg
END:VEVENT
BEGIN:VEVENT
DTSTART;TZID=America/Toronto:20250626T110000
DTEND;TZID=America/Toronto:20250626T140000
DTSTAMP:20260424T213740
CREATED:20250512T195210Z
LAST-MODIFIED:20250512T203447Z
UID:10001849-1750935600-1750946400@mindforward.org
SUMMARY:Jack Astor’s Lunch Out
DESCRIPTION:Treat yourself to a fun and tasty outing with friends – no cooking required! Join us at the restaurant to wrap up Brain Injury Awareness month.
URL:https://mindforward.org/event/jack-astors-lunch-out/
LOCATION:Jack’s Square One\, 219 Rathburn Rd W\, Mississauga\, Ontario\, L5B 4C1\, Canada
ATTACH;FMTTYPE=image/jpeg:https://mindforward.org/wp-content/uploads/2025/05/Jack-Astors-Lunch-Out.jpg
END:VEVENT
END:VCALENDAR